BEGIN:VCALENDAR
VERSION:2.0
PRODID:-//Plone.org//NONSGML plone.app.event//EN
X-WR-TIMEZONE:Europe/Madrid
BEGIN:VEVENT
SUMMARY:Esdeveniment de mostra 4
DTSTART;TZID=Europe/Madrid:20221115T110000
DTEND;TZID=Europe/Madrid:20621105T110000
DTSTAMP:20260424T222140Z
UID:f3f6bb4712a041f0a35c87718e30845e@oliwastex.upc.edu
CONTACT:Responsable esdeveniment\, adreca@noreply.com
CREATED:20221115T104326Z
LAST-MODIFIED:20221115T104326Z
LOCATION:Lloc de l'esdeveniment
URL:https://oliwastex.upc.edu/ca/esdeveniments/esdeveniment-de-mostra-4
END:VEVENT
BEGIN:VTIMEZONE
TZID:Europe/Madrid
X-LIC-LOCATION:Europe/Madrid
BEGIN:STANDARD
DTSTART:20221030T020000
TZNAME:CET
TZOFFSETFROM:+0200
TZOFFSETTO:+0100
END:STANDARD
BEGIN:STANDARD
DTSTART:20371025T020000
TZNAME:CET
TZOFFSETFROM:+0200
TZOFFSETTO:+0100
END:STANDARD
END:VTIMEZONE
END:VCALENDAR
